BEGIN:VCALENDAR
VERSION:2.0
PRODID:-//Your First Mud Run - ECPv6.15.11//NONSGML v1.0//EN
CALSCALE:GREGORIAN
METHOD:PUBLISH
X-WR-CALNAME:Your First Mud Run
X-ORIGINAL-URL:https://yourfirstmudrun.com
X-WR-CALDESC:Events for Your First Mud Run
REFRESH-INTERVAL;VALUE=DURATION:PT1H
X-Robots-Tag:noindex
X-PUBLISHED-TTL:PT1H
BEGIN:VTIMEZONE
TZID:UTC
BEGIN:STANDARD
TZOFFSETFROM:+0000
TZOFFSETTO:+0000
TZNAME:UTC
DTSTART:20240101T000000
END:STANDARD
END:VTIMEZONE
BEGIN:VEVENT
DTSTART;VALUE=DATE:20250927
DTEND;VALUE=DATE:20250928
DTSTAMP:20260423T111809
CREATED:20250514T212250Z
LAST-MODIFIED:20250525T201925Z
UID:6975-1758931200-1759017599@yourfirstmudrun.com
SUMMARY:Babcock Ranch\, FL
DESCRIPTION:Get Ready to Get Muddy at Babcock Ranch! \nJoin us for a day of muddy mayhem and unforgettable fun at Your First Mud Run\, happening Saturday\, September 27th from 10:00 AM to 1:00 PM at Lagoon Park—one of the six scenic gems in the Babcock Ranch Trail Park System! \nWhether you’re a first-time mud runner or a seasoned dirt warrior\, this family-friendly event is the perfect way to challenge yourself\, get outside\, and make some muddy memories. Conquer fun obstacles and power through messy terrain—all set against the beautiful backdrop of Lagoon Park’s 3.3-acre lagoon\, walking trail\, and wide-open grassy spaces. \nSo\, lace up your sneakers (that you don’t mind getting dirty)\, rally your crew\, and sign up today. You won’t want to miss this epic\, mud-splattered adventure at Babcock Ranch! \n\n\n\n\nREGISTER NOW
URL:https://yourfirstmudrun.com/event/babcock-ranch/
LOCATION:Babcock Ranch\, 16650 Babcock Trl\, Punta Gorda\, 33982
CATEGORIES:Mudrun
ATTACH;FMTTYPE=image/jpeg:https://yourfirstmudrun.com/wp-content/uploads/2025/05/image001.jpg
END:VEVENT
END:VCALENDAR