BEGIN:VCALENDAR
VERSION:2.0
PRODID:-//Your First Mud Run - ECPv6.15.11//NONSGML v1.0//EN
CALSCALE:GREGORIAN
METHOD:PUBLISH
X-WR-CALNAME:Your First Mud Run
X-ORIGINAL-URL:https://yourfirstmudrun.com
X-WR-CALDESC:Events for Your First Mud Run
REFRESH-INTERVAL;VALUE=DURATION:PT1H
X-Robots-Tag:noindex
X-PUBLISHED-TTL:PT1H
BEGIN:VTIMEZONE
TZID:UTC
BEGIN:STANDARD
TZOFFSETFROM:+0000
TZOFFSETTO:+0000
TZNAME:UTC
DTSTART:20240101T000000
END:STANDARD
END:VTIMEZONE
BEGIN:VEVENT
DTSTART;TZID=UTC:20251018T100000
DTEND;TZID=UTC:20251018T150000
DTSTAMP:20260423T144615
CREATED:20250919T145122Z
LAST-MODIFIED:20250919T145915Z
UID:7004-1760781600-1760799600@yourfirstmudrun.com
SUMMARY:Inaugural 5K Trail Run\, hosted by the Immokalee Eastern Chamber of Commerce and the Rotary Club of Immokalee
DESCRIPTION:1st Annual 5K Trail Run \nJoin us on Saturday\, October 18\, 2025\, at Lazy Springs Recreation Park for the Inaugural 5K Trail Run\, hosted by the Immokalee Eastern Chamber of Commerce and the Rotary Club of Immokalee. \nThis exciting event isn’t just about the run—it’s about supporting our community. The 5K serves as a Fundraiser for the 29th Annual Cheryle Thomas Christmas Around the World Parade & Gala\, Immokalee’s only major holiday celebration\, bringing joy and togetherness to more than 3\,000 residents and guests each year. Your participation helps us keep this cherished tradition alive for generations to come.\nShirts and medals are available to the first 100 runners to sign up.
URL:https://yourfirstmudrun.com/event/inaugural-5k-trail-run-hosted-by-the-immokalee-eastern-chamber-of-commerce-and-the-rotary-club-of-immokalee/
LOCATION:Lazy Springs Recreation Park\, 9591 FL-82\, Felda\, FL\, 33930\, United States
CATEGORIES:Mudrun
ATTACH;FMTTYPE=image/png:https://yourfirstmudrun.com/wp-content/uploads/2025/09/5k-trailrun2.png
END:VEVENT
END:VCALENDAR