BEGIN:VCALENDAR
VERSION:2.0
PRODID:-//Your First Mud Run - ECPv6.15.11//NONSGML v1.0//EN
CALSCALE:GREGORIAN
METHOD:PUBLISH
X-ORIGINAL-URL:https://yourfirstmudrun.com
X-WR-CALDESC:Events for Your First Mud Run
REFRESH-INTERVAL;VALUE=DURATION:PT1H
X-Robots-Tag:noindex
X-PUBLISHED-TTL:PT1H
BEGIN:VTIMEZONE
TZID:UTC
BEGIN:STANDARD
TZOFFSETFROM:+0000
TZOFFSETTO:+0000
TZNAME:UTC
DTSTART:20250101T000000
END:STANDARD
END:VTIMEZONE
BEGIN:VEVENT
DTSTART;TZID=UTC:20260201T100000
DTEND;TZID=UTC:20260201T130000
DTSTAMP:20260423T184658
CREATED:20230814T010432Z
LAST-MODIFIED:20260115T195556Z
UID:6695-1769940000-1769950800@yourfirstmudrun.com
SUMMARY:Boca Raton\, Florida
DESCRIPTION:Get ready to get muddy\, Boca Raton!\nJoin us for Your First Mud Run at the beautiful Burt Aranson South County Regional Park on February 1st\, 2026 a family-friendly adventure designed for beginners and experienced runners alike. This exciting event is open to all ages (ages 5 and up)\, making it the perfect day of fun and fitness for the whole family. \nVenue:\nBurt Aaronson South County Regional Park offers a scenic backdrop with wide open spaces\, shaded areas\, and accessible amenities. Its lush greenery and natural terrain provide the perfect setting for an unforgettable mud run experience. \nCourse Details: \n\nDistance: 1.5–2 miles\nDesigned for all fitness levels—walk\, jog\, or run at your own pace\nParents are encouraged to run with their kids\n\nObstacles Include: \n\nTunnel crawling\nWall climbs\nTire runs\nRope climbs\nCargo net climbs\nMuddy crawling and more!\n\nEvery obstacle is manageable for first-timers\, but challenging enough to give everyone a sense of accomplishment. \nWhether you’re racing for fun\, team bonding\, or to try something new\, Your First Mud Run is the perfect introduction to obstacle course racing in a safe\, supportive environment. \nDon’t forget to bring: \n\nOld clothes and sneakers you don’t mind getting dirty\nA change of clothes and a towel\nYour adventurous spirit!\n\nRegister now and get ready to conquer your first mud run! \nLINK TO COURSE MAP \nLOCATION \nREGISTER NOW
URL:https://yourfirstmudrun.com/event/burt-aaronson-park-boca-raton-florida/
LOCATION:Boca Raton\, Fl\, 11200 Park Access Rd\, Boca Raton\, FL\, 33498\, United States
CATEGORIES:Mudrun
ATTACH;FMTTYPE=image/jpeg:https://yourfirstmudrun.com/wp-content/uploads/2023/08/fairlawn-cover-pic-scaled.jpg
END:VEVENT
END:VCALENDAR